BEGIN:VCALENDAR
PRODID:-//punkave//apostrophe 1.x//EN
VERSION:1.0
TZ:0
BEGIN:VEVENT
CATEGORIES:MEETING
DTSTART:20151027T040000Z
DTEND:20151029T165959Z
DTSTAMP:20150615T172400Z
SUMMARY:Kindergarten Lunch Around the World: Mediterranean
DESCRIPTION:
LOCATION:
UID:2398
END:VEVENT
END:VCALENDAR