BEGIN:VCALENDAR
PRODID:-//punkave//apostrophe 1.x//EN
VERSION:1.0
TZ:0
BEGIN:VEVENT
CATEGORIES:MEETING
DTSTART:20151028T121500Z
DTEND:20151028T130000Z
DTSTAMP:20150610T141245Z
SUMMARY:Coffee with Jennifer Coulter
DESCRIPTION:Primary parent coffee with Jennifer Coulter, held at East Campus.
LOCATION:2121 Arch St. Philadelphia PA
UID:2386
END:VEVENT
END:VCALENDAR