BEGIN:VCALENDAR
PRODID:-//punkave//apostrophe 1.x//EN
VERSION:1.0
TZ:0
BEGIN:VEVENT
CATEGORIES:MEETING
DTSTART:20151029T040000Z
DTEND:20151031T165959Z
DTSTAMP:20150615T172500Z
SUMMARY:Kindergarten Lunch Around the World: Mediterranean
DESCRIPTION:
LOCATION:
UID:2399
END:VEVENT
END:VCALENDAR