BEGIN:VCALENDAR
PRODID:-//punkave//apostrophe 1.x//EN
VERSION:1.0
TZ:0
BEGIN:VEVENT
CATEGORIES:MEETING
DTSTART:20151102T050000Z
DTEND:20151104T175959Z
DTSTAMP:20150610T142700Z
SUMMARY:Thanksgiving Food Drive Begins
DESCRIPTION:
LOCATION:
UID:2387
END:VEVENT
END:VCALENDAR