BEGIN:VCALENDAR
PRODID:-//punkave//apostrophe 1.x//EN
VERSION:1.0
TZ:0
BEGIN:VEVENT
CATEGORIES:MEETING
DTSTART:20151104T131500Z
DTEND:20151104T140000Z
DTSTAMP:20150610T143144Z
SUMMARY:Kindergarten Parent to Parent Coffee
DESCRIPTION:This coffee is for current and next year\'s K parents.
LOCATION:
UID:2388
END:VEVENT
END:VCALENDAR