BEGIN:VCALENDAR
PRODID:-//punkave//apostrophe 1.x//EN
VERSION:1.0
TZ:0
BEGIN:VEVENT
CATEGORIES:MEETING
DTSTART:20151105T131500Z
DTEND:20151105T140000Z
DTSTAMP:20150610T143300Z
SUMMARY:1st Thursday Coffee: Bringing Montessori Home
DESCRIPTION:
LOCATION:
UID:2389
END:VEVENT
END:VCALENDAR