BEGIN:VCALENDAR
PRODID:-//punkave//apostrophe 1.x//EN
VERSION:1.0
TZ:0
BEGIN:VEVENT
CATEGORIES:MEETING
DTSTART:20151106T230000Z
DTEND:20151107T010000Z
DTSTAMP:20150805T124900Z
SUMMARY:Fall Parent Social
DESCRIPTION:This parent only happy hour will be at Chima!
LOCATION:
UID:2505
END:VEVENT
END:VCALENDAR