BEGIN:VCALENDAR
PRODID:-//punkave//apostrophe 1.x//EN
VERSION:1.0
TZ:0
BEGIN:VEVENT
CATEGORIES:MEETING
DTSTART:20151106T050000Z
DTEND:20151108T175959Z
DTSTAMP:20150805T125000Z
SUMMARY:Primary All Day Montessori Parent/Teacher Conferences
DESCRIPTION:Conference date in addition to Nov 13 and 20.
LOCATION:GTMS WEST
UID:2504
END:VEVENT
END:VCALENDAR