BEGIN:VCALENDAR
PRODID:-//punkave//apostrophe 1.x//EN
VERSION:1.0
TZ:0
BEGIN:VEVENT
CATEGORIES:MEETING
DTSTART:20151106T050000Z
DTEND:20151108T175959Z
DTSTAMP:20150610T144200Z
SUMMARY:Staff In Service: 11:45 DISMISSAL
DESCRIPTION:NO afternoon programs, ADM in session.
LOCATION:
UID:2390
END:VEVENT
END:VCALENDAR