BEGIN:VCALENDAR
PRODID:-//punkave//apostrophe 1.x//EN
VERSION:1.0
TZ:0
BEGIN:VEVENT
CATEGORIES:MEETING
DTSTART:20151113T050000Z
DTEND:20151115T175959Z
DTSTAMP:20150610T150900Z
SUMMARY:Parent/Teacher Conferences: SCHOOL CLOSED
DESCRIPTION:Care available during conference time(s). ADM in session.
LOCATION:
UID:2393
END:VEVENT
END:VCALENDAR