BEGIN:VCALENDAR
PRODID:-//punkave//apostrophe 1.x//EN
VERSION:1.0
TZ:0
BEGIN:VEVENT
CATEGORIES:MEETING
DTSTART:20151119T163000Z
DTEND:20151119T173000Z
DTSTAMP:20150805T125202Z
SUMMARY:K Lunch Around the World: Greece
DESCRIPTION:
LOCATION:
UID:2506
END:VEVENT
END:VCALENDAR