BEGIN:VCALENDAR
PRODID:-//punkave//apostrophe 1.x//EN
VERSION:1.0
TZ:0
BEGIN:VEVENT
CATEGORIES:MEETING
DTSTART:20151123T131500Z
DTEND:20151123T140000Z
DTSTAMP:20151105T135400Z
SUMMARY:Auction Informational Coffee
DESCRIPTION:Come learn more about the Annual Auction!
LOCATION:
UID:2595
END:VEVENT
END:VCALENDAR