BEGIN:VCALENDAR
PRODID:-//punkave//apostrophe 1.x//EN
VERSION:1.0
TZ:0
BEGIN:VEVENT
CATEGORIES:MEETING
DTSTART:20151125T050000Z
DTEND:20151127T175959Z
DTSTAMP:20150610T151654Z
SUMMARY:Thanksgiving Holiday: 11:45 DISMISSAL
DESCRIPTION:PAJAMA DAY! ADM is NOT in session after 11:45am.
LOCATION:
UID:2395
END:VEVENT
END:VCALENDAR