BEGIN:VCALENDAR
PRODID:-//punkave//apostrophe 1.x//EN
VERSION:1.0
TZ:0
BEGIN:VEVENT
CATEGORIES:MEETING
DTSTART:20151126T050000Z
DTEND:20151129T175959Z
DTSTAMP:20150610T152007Z
SUMMARY:Thanksgiving Holiday: SCHOOL CLOSED
DESCRIPTION:ADM CLOSED.
LOCATION:
UID:2396
END:VEVENT
END:VCALENDAR