BEGIN:VCALENDAR
PRODID:-//punkave//apostrophe 1.x//EN
VERSION:1.0
TZ:0
BEGIN:VEVENT
CATEGORIES:MEETING
DTSTART:20151204T220000Z
DTEND:20151204T220000Z
DTSTAMP:20150610T160443Z
SUMMARY:Staff Winter Party: ADM DISMISSAL 5:00pm
DESCRIPTION:
LOCATION:
UID:2397
END:VEVENT
END:VCALENDAR