BEGIN:VCALENDAR
PRODID:-//punkave//apostrophe 1.x//EN
VERSION:1.0
TZ:0
BEGIN:VEVENT
CATEGORIES:MEETING
DTSTART:20151207T050000Z
DTEND:20151209T175959Z
DTSTAMP:20150615T173803Z
SUMMARY:Holiday Toy Drive Begins
DESCRIPTION:
LOCATION:
UID:2404
END:VEVENT
END:VCALENDAR