BEGIN:VCALENDAR
PRODID:-//punkave//apostrophe 1.x//EN
VERSION:1.0
TZ:0
BEGIN:VEVENT
CATEGORIES:MEETING
DTSTART:20151208T220000Z
DTEND:20151208T230000Z
DTSTAMP:20150615T174100Z
SUMMARY:East and West Primary Parent/Child Classroom Visit
DESCRIPTION:This is a special evening for second year and beyond children to bring their parents to the classroom. New (first year) children will have a visit in January.
LOCATION:
UID:2405
END:VEVENT
END:VCALENDAR