BEGIN:VCALENDAR
PRODID:-//punkave//apostrophe 1.x//EN
VERSION:1.0
TZ:0
BEGIN:VEVENT
CATEGORIES:MEETING
DTSTART:20151210T000000Z
DTEND:20151210T020000Z
DTSTAMP:20150805T133500Z
SUMMARY:Parent Workshop: Promoting Emotional and Social Intelligence
DESCRIPTION:Promoting Emotional and Social Intelligence, with Lisa Dissinger, Ph.D. There are many ways to be “smart,” and emotional and social intelligence are as important to your child’s success and well-being as academic achievement. In this workshop, Dr. Lisa Dissinger, specialist in child development, will explain why emotional and social intelligence are critical aspects of education, and she will describe specific methods for encouraging them in your child. Wednesday, December 9 / Reception at 6:30pm / Workshop 7:00 – 8:00pm RSVP HERE
LOCATION:
UID:2507
END:VEVENT
END:VCALENDAR