BEGIN:VCALENDAR
PRODID:-//punkave//apostrophe 1.x//EN
VERSION:1.0
TZ:0
BEGIN:VEVENT
CATEGORIES:MEETING
DTSTART:20151214T230000Z
DTEND:20151215T010000Z
DTSTAMP:20150805T133600Z
SUMMARY:Board Meeting
DESCRIPTION:
LOCATION:
UID:2508
END:VEVENT
END:VCALENDAR