BEGIN:VCALENDAR
PRODID:-//punkave//apostrophe 1.x//EN
VERSION:1.0
TZ:0
BEGIN:VEVENT
CATEGORIES:MEETING
DTSTART:20151221T050000Z
DTEND:20151225T175959Z
DTSTAMP:20150615T175300Z
SUMMARY:Winter Break: School Closed
DESCRIPTION:ADM in Session.
LOCATION:
UID:2407
END:VEVENT
END:VCALENDAR