BEGIN:VCALENDAR
PRODID:-//punkave//apostrophe 1.x//EN
VERSION:1.0
TZ:0
BEGIN:VEVENT
CATEGORIES:MEETING
DTSTART:20151224T050000Z
DTEND:20160103T175959Z
DTSTAMP:20150615T180421Z
SUMMARY:Winter Break: SCHOOL CLOSED
DESCRIPTION:ADM CLOSED
LOCATION:
UID:2408
END:VEVENT
END:VCALENDAR