BEGIN:VCALENDAR
PRODID:-//punkave//apostrophe 1.x//EN
VERSION:1.0
TZ:0
BEGIN:VEVENT
CATEGORIES:MEETING
DTSTART:20160104T050000Z
DTEND:20160106T175959Z
DTSTAMP:20150805T135200Z
SUMMARY:Classes Resume
DESCRIPTION:Toddler and Primary classes resume
LOCATION:
UID:2509
END:VEVENT
END:VCALENDAR