BEGIN:VCALENDAR
PRODID:-//punkave//apostrophe 1.x//EN
VERSION:1.0
TZ:0
BEGIN:VEVENT
CATEGORIES:MEETING
DTSTART:20160113T220000Z
DTEND:20160113T230000Z
DTSTAMP:20150615T180800Z
SUMMARY:East and West Primary Parent/Child Visit (First Year Primary Students)
DESCRIPTION:This is a special evening for first year children to bring their parents to the classroom. Second year and beyond children had a visit in December.
LOCATION:
UID:2410
END:VEVENT
END:VCALENDAR