BEGIN:VCALENDAR
PRODID:-//punkave//apostrophe 1.x//EN
VERSION:1.0
TZ:0
BEGIN:VEVENT
CATEGORIES:MEETING
DTSTART:20160114T230000Z
DTEND:20160115T010000Z
DTSTAMP:20151105T185600Z
SUMMARY:Auction Stuffing Party
DESCRIPTION:An opportunity to volunteer and helpd stuff auction invitations and procurements! Usually there is a bit of wine involved!
LOCATION:GTMS East Lobby
UID:2596
END:VEVENT
END:VCALENDAR