BEGIN:VCALENDAR
PRODID:-//punkave//apostrophe 1.x//EN
VERSION:1.0
TZ:0
BEGIN:VEVENT
CATEGORIES:MEETING
DTSTART:20160115T050000Z
DTEND:20160117T175959Z
DTSTAMP:20150615T182911Z
SUMMARY:Staff In-Service: SCHOOL CLOSED
DESCRIPTION:ADM in Session
LOCATION:
UID:2411
END:VEVENT
END:VCALENDAR