BEGIN:VCALENDAR
PRODID:-//punkave//apostrophe 1.x//EN
VERSION:1.0
TZ:0
BEGIN:VEVENT
CATEGORIES:MEETING
DTSTART:20160118T050000Z
DTEND:20160120T175959Z
DTSTAMP:20150615T183000Z
SUMMARY:Martin Luther King Jr. Day Observed: SCHOOL CLOSED
DESCRIPTION:ADM Closed.
LOCATION:
UID:2412
END:VEVENT
END:VCALENDAR