BEGIN:VCALENDAR
PRODID:-//punkave//apostrophe 1.x//EN
VERSION:1.0
TZ:0
BEGIN:VEVENT
CATEGORIES:MEETING
DTSTART:20160118T050000Z
DTEND:20160120T175959Z
DTSTAMP:20150805T135303Z
SUMMARY:MLK Day of Service
DESCRIPTION:
LOCATION:
UID:2510
END:VEVENT
END:VCALENDAR