BEGIN:VCALENDAR
PRODID:-//punkave//apostrophe 1.x//EN
VERSION:1.0
TZ:0
BEGIN:VEVENT
CATEGORIES:MEETING
DTSTART:20160120T233000Z
DTEND:20160121T010000Z
DTSTAMP:20151208T181700Z
SUMMARY:Parent Workshop: Resilience and True Grit
DESCRIPTION:Your child’s executive function, or “true grit,”—including focus, patience, resilience, and persistence—helps determine his or her academic performance. In this workshop, Dr. Dissinger will discuss the concept and value of executive function and teach parents how to foster it in young children. Wednesday, January 20 / Reception at 6:30pm / Workshop 7:00 – 8:00pm
LOCATION:
UID:2617
END:VEVENT
END:VCALENDAR