BEGIN:VCALENDAR
PRODID:-//punkave//apostrophe 1.x//EN
VERSION:1.0
TZ:0
BEGIN:VEVENT
CATEGORIES:MEETING
DTSTART:20160121T230000Z
DTEND:20160122T010000Z
DTSTAMP:20150615T183200Z
SUMMARY:Winter Parent Social
DESCRIPTION:See you there!
LOCATION:Brick and Mortar: 315 N 12th St, Philadelphia, PA 19107.
UID:2413
END:VEVENT
END:VCALENDAR