BEGIN:VCALENDAR
PRODID:-//punkave//apostrophe 1.x//EN
VERSION:1.0
TZ:0
BEGIN:VEVENT
CATEGORIES:MEETING
DTSTART:20160122T050000Z
DTEND:20160124T175959Z
DTSTAMP:20150615T183300Z
SUMMARY:Kindergarten Lunch Around the World
DESCRIPTION:The K students should not bring lunch today!
LOCATION:
UID:2414
END:VEVENT
END:VCALENDAR