BEGIN:VCALENDAR
PRODID:-//punkave//apostrophe 1.x//EN
VERSION:1.0
TZ:0
BEGIN:VEVENT
CATEGORIES:MEETING
DTSTART:20160128T050000Z
DTEND:20160130T175959Z
DTSTAMP:20150615T183947Z
SUMMARY:Picture Day: GTMS West
DESCRIPTION:It\'s Picture Day! Make sure to get to school EARLY as we will start taking pics at 8:30am SHARP, or before if a class is ready to go! Primary students at GTMS EAST will take pictures tomorrow (1/29), same time!
LOCATION:
UID:2415
END:VEVENT
END:VCALENDAR