BEGIN:VCALENDAR
PRODID:-//punkave//apostrophe 1.x//EN
VERSION:1.0
TZ:0
BEGIN:VEVENT
CATEGORIES:MEETING
DTSTART:20160129T050000Z
DTEND:20160131T175959Z
DTSTAMP:20150615T184116Z
SUMMARY:Picture Day: GTMS East
DESCRIPTION:It\'s Picture Day! Make sure to get to school EARLY as we will start taking pics at 9am SHARP, or before if a class is ready to go! Toddlers and ADM students (GTMS West) took pictures yesterday, 1/28.
LOCATION:
UID:2416
END:VEVENT
END:VCALENDAR