BEGIN:VCALENDAR
PRODID:-//punkave//apostrophe 1.x//EN
VERSION:1.0
TZ:0
BEGIN:VEVENT
CATEGORIES:MEETING
DTSTART:20160203T233000Z
DTEND:20160204T013000Z
DTSTAMP:20150922T171500Z
SUMMARY:Parent Workshop: Talking to Your Child About Diversity
DESCRIPTION:RSVP Dr. Ali Michael (http://alimichael.org/) will present how to discuss diversity with your child. 6:30pm Reception 7pm Workshop
LOCATION:
UID:2531
END:VEVENT
END:VCALENDAR