BEGIN:VCALENDAR
PRODID:-//punkave//apostrophe 1.x//EN
VERSION:1.0
TZ:0
BEGIN:VEVENT
CATEGORIES:MEETING
DTSTART:20160209T131500Z
DTEND:20160209T140000Z
DTSTAMP:20150616T143816Z
SUMMARY:Coffee with Jen Wollman
DESCRIPTION:Toddler parent coffee with Jen Wollman, held at the West Campus.
LOCATION:2215 Arch St, Philadelphia PA
UID:2421
END:VEVENT
END:VCALENDAR