BEGIN:VCALENDAR
PRODID:-//punkave//apostrophe 1.x//EN
VERSION:1.0
TZ:0
BEGIN:VEVENT
CATEGORIES:MEETING
DTSTART:20160210T131500Z
DTEND:20160210T140000Z
DTSTAMP:20150616T144249Z
SUMMARY:Coffee with Laura Connor
DESCRIPTION:Toddler parent coffee with Laura connor, held at the West Campus.
LOCATION:2215 Arch St, Philadelphia PA
UID:2422
END:VEVENT
END:VCALENDAR