BEGIN:VCALENDAR
PRODID:-//punkave//apostrophe 1.x//EN
VERSION:1.0
TZ:0
BEGIN:VEVENT
CATEGORIES:MEETING
DTSTART:20160211T131500Z
DTEND:20160211T140000Z
DTSTAMP:20150616T145600Z
SUMMARY:Coffee with Michelle Nowacky
DESCRIPTION:Toddler parent coffee with Michelle Nowacky, held at the West campus.
LOCATION:2215 Arch St. Philadelphia PA
UID:2423
END:VEVENT
END:VCALENDAR