BEGIN:VCALENDAR
PRODID:-//punkave//apostrophe 1.x//EN
VERSION:1.0
TZ:0
BEGIN:VEVENT
CATEGORIES:MEETING
DTSTART:20160212T000000Z
DTEND:20160212T000000Z
DTSTAMP:20150616T150042Z
SUMMARY:Kindergarten Parent to Kindergarten Alumni Parent Wine and Cheese Social
DESCRIPTION:
LOCATION:
UID:2424
END:VEVENT
END:VCALENDAR