BEGIN:VCALENDAR
PRODID:-//punkave//apostrophe 1.x//EN
VERSION:1.0
TZ:0
BEGIN:VEVENT
CATEGORIES:MEETING
DTSTART:20160215T050000Z
DTEND:20160217T175959Z
DTSTAMP:20150616T151404Z
SUMMARY:Presidents Day: SCHOOL CLOSED
DESCRIPTION:ADM Closed.
LOCATION:
UID:2426
END:VEVENT
END:VCALENDAR