BEGIN:VCALENDAR
PRODID:-//punkave//apostrophe 1.x//EN
VERSION:1.0
TZ:0
BEGIN:VEVENT
CATEGORIES:MEETING
DTSTART:20160217T131500Z
DTEND:20160217T140000Z
DTSTAMP:20150616T151947Z
SUMMARY:Coffee with Ms. Dhar
DESCRIPTION:Primary parent coffee with Neepa Dhar, held at the West Campus.
LOCATION:
UID:2428
END:VEVENT
END:VCALENDAR