BEGIN:VCALENDAR
PRODID:-//punkave//apostrophe 1.x//EN
VERSION:1.0
TZ:0
BEGIN:VEVENT
CATEGORIES:MEETING
DTSTART:20160218T131500Z
DTEND:20160218T140000Z
DTSTAMP:20150616T152700Z
SUMMARY:Coffee with Mrs. Pysher
DESCRIPTION:Primary parent coffee with Michelle Pysher, held at the East Campus.
LOCATION:
UID:2429
END:VEVENT
END:VCALENDAR