BEGIN:VCALENDAR
PRODID:-//punkave//apostrophe 1.x//EN
VERSION:1.0
TZ:0
BEGIN:VEVENT
CATEGORIES:MEETING
DTSTART:20160221T170000Z
DTEND:20160221T193000Z
DTSTAMP:20150805T125000Z
SUMMARY:Winter Family Social
DESCRIPTION:Second Annual Winter Family Social February 21, 12:00-2:30pm University Of Penn Class of 1923 Ice Rink: Join us for an indoor picnic and ice skating. Bring your own lunch and we will provide the beverages. Skating will be available 1-2pm. $5 per person includes skate rental. Driving directions to the rink: http://cms.business-services.upenn.edu/icerink/about-us/directions-and-parking.html Parking: Parking is free in Lower Walnut Lot with parking pass. Parking passes available at front desk of ice rink.
LOCATION:
UID:2490
END:VEVENT
END:VCALENDAR