BEGIN:VCALENDAR
PRODID:-//punkave//apostrophe 1.x//EN
VERSION:1.0
TZ:0
BEGIN:VEVENT
CATEGORIES:MEETING
DTSTART:20160223T131500Z
DTEND:20160223T140000Z
DTSTAMP:20150616T153511Z
SUMMARY:Coffee with Ms. Matsukevich
DESCRIPTION:Primary parent coffee with Anna Matsukevich, held at the East campus.
LOCATION:
UID:2430
END:VEVENT
END:VCALENDAR