BEGIN:VCALENDAR
PRODID:-//punkave//apostrophe 1.x//EN
VERSION:1.0
TZ:0
BEGIN:VEVENT
CATEGORIES:MEETING
DTSTART:20160224T223000Z
DTEND:20160224T233000Z
DTSTAMP:20150616T153837Z
SUMMARY:Applying to First Grade Workshop
DESCRIPTION:
LOCATION:
UID:2432
END:VEVENT
END:VCALENDAR