BEGIN:VCALENDAR
PRODID:-//punkave//apostrophe 1.x//EN
VERSION:1.0
TZ:0
BEGIN:VEVENT
CATEGORIES:MEETING
DTSTART:20160226T050000Z
DTEND:20160228T175959Z
DTSTAMP:20150616T153900Z
SUMMARY:Kindergarten Lunch Around the World: Trinidad and Sri Lanka
DESCRIPTION:Kindergarten students do not need to bring a lunch today.
LOCATION:
UID:2433
END:VEVENT
END:VCALENDAR