BEGIN:VCALENDAR
PRODID:-//punkave//apostrophe 1.x//EN
VERSION:1.0
TZ:0
BEGIN:VEVENT
CATEGORIES:MEETING
DTSTART:20160228T050000Z
DTEND:20160307T175959Z
DTSTAMP:20150616T154000Z
SUMMARY:Montessori Education Week
DESCRIPTION:Check out Facebook page to see how we are celebrating! Don\'t forget to Like us!
LOCATION:
UID:2434
END:VEVENT
END:VCALENDAR