BEGIN:VCALENDAR
PRODID:-//punkave//apostrophe 1.x//EN
VERSION:1.0
TZ:0
BEGIN:VEVENT
CATEGORIES:MEETING
DTSTART:20160310T220000Z
DTEND:20160310T230000Z
DTSTAMP:20150617T152100Z
SUMMARY:Toddler House Parent/Child Visit
DESCRIPTION:3/9 and 3/10 Toddlers can bring their parents to class and show off their work! RSVP HERE!
LOCATION:
UID:2437
END:VEVENT
END:VCALENDAR