BEGIN:VCALENDAR
PRODID:-//punkave//apostrophe 1.x//EN
VERSION:1.0
TZ:0
BEGIN:VEVENT
CATEGORIES:MEETING
DTSTART:20160314T220000Z
DTEND:20160315T000000Z
DTSTAMP:20150805T140200Z
SUMMARY:Board Meeting
DESCRIPTION:
LOCATION:
UID:2512
END:VEVENT
END:VCALENDAR