BEGIN:VCALENDAR
PRODID:-//punkave//apostrophe 1.x//EN
VERSION:1.0
TZ:0
BEGIN:VEVENT
CATEGORIES:MEETING
DTSTART:20160314T040000Z
DTEND:20160416T165959Z
DTSTAMP:20150616T165400Z
SUMMARY:Parent Observations Begin
DESCRIPTION:To observe your child please contact the Administrative Assistant to schedule the visit.
LOCATION:
UID:2435
END:VEVENT
END:VCALENDAR