BEGIN:VCALENDAR
PRODID:-//punkave//apostrophe 1.x//EN
VERSION:1.0
TZ:0
BEGIN:VEVENT
CATEGORIES:MEETING
DTSTART:20160318T040000Z
DTEND:20160320T165959Z
DTSTAMP:20150805T124949Z
SUMMARY:Staff In-Service: SCHOOL CLOSED
DESCRIPTION:ADM CLOSED.
LOCATION:
UID:2438
END:VEVENT
END:VCALENDAR