BEGIN:VCALENDAR
PRODID:-//punkave//apostrophe 1.x//EN
VERSION:1.0
TZ:0
BEGIN:VEVENT
CATEGORIES:MEETING
DTSTART:20160322T223000Z
DTEND:20160323T000000Z
DTSTAMP:20150617T174200Z
SUMMARY:Admissions Open House
DESCRIPTION:
LOCATION:
UID:2439
END:VEVENT
END:VCALENDAR